BEGIN:VCALENDAR
VERSION:2.0
PRODID:-//Wim van Doorne Muziekkiosk - ECPv6.15.20//NONSGML v1.0//EN
CALSCALE:GREGORIAN
METHOD:PUBLISH
X-WR-CALNAME:Wim van Doorne Muziekkiosk
X-ORIGINAL-URL:https://www.wimvandoornemuziekkiosk.nl
X-WR-CALDESC:Evenementen voor Wim van Doorne Muziekkiosk
REFRESH-INTERVAL;VALUE=DURATION:PT1H
X-Robots-Tag:noindex
X-PUBLISHED-TTL:PT1H
BEGIN:VTIMEZONE
TZID:Europe/Amsterdam
BEGIN:DAYLIGHT
TZOFFSETFROM:+0100
TZOFFSETTO:+0200
TZNAME:CEST
DTSTART:20250330T010000
END:DAYLIGHT
BEGIN:STANDARD
TZOFFSETFROM:+0200
TZOFFSETTO:+0100
TZNAME:CET
DTSTART:20251026T010000
END:STANDARD
BEGIN:DAYLIGHT
TZOFFSETFROM:+0100
TZOFFSETTO:+0200
TZNAME:CEST
DTSTART:20260329T010000
END:DAYLIGHT
BEGIN:STANDARD
TZOFFSETFROM:+0200
TZOFFSETTO:+0100
TZNAME:CET
DTSTART:20261025T010000
END:STANDARD
BEGIN:DAYLIGHT
TZOFFSETFROM:+0100
TZOFFSETTO:+0200
TZNAME:CEST
DTSTART:20270328T010000
END:DAYLIGHT
BEGIN:STANDARD
TZOFFSETFROM:+0200
TZOFFSETTO:+0100
TZNAME:CET
DTSTART:20271031T010000
END:STANDARD
END:VTIMEZONE
BEGIN:VEVENT
DTSTART;TZID=Europe/Amsterdam:20260503T141500
DTEND;TZID=Europe/Amsterdam:20260503T151500
DTSTAMP:20260425T161932
CREATED:20260226T073310Z
LAST-MODIFIED:20260327T181057Z
UID:1715-1777817700-1777821300@www.wimvandoornemuziekkiosk.nl
SUMMARY:Regimentsfanfare 'Garde Grenadiers en Jagers'
DESCRIPTION:De Regimentsfanfare ‘Garde Grenadiers en Jagers’ (RFGGJ) is een groot koperensemble met slagwerk. De belangrijkste taak is de begeleiding van militair ceremonieel\, zoals commando-overdrachten. \n\n\n\nDe RFGGJ is een compacte en flexibel inzetbare regimentsfanfare. Doel is om een actieve bijdrage te leveren aan het versterken van de band tussen militairen en burgers\, met oog voor behoud van traditie. De optredens hebben een kleinschalig karakter: van kleine theaters tot dorpshuizen. RFGGJ is een compacte en flexibel inzetbare regimentsfanfare. Doel is om een actieve bijdrage te leveren aan het versterken van de band tussen militairen en burgers\, met oog voor behoud van traditie.  \n\n\n\nAnne van den Berg\n\n\n\nDirigent\n\n\n\nAnne van den Berg begon al op 7-jarige leeftijd met muziek. Hij speelde toen trompet bij muziekvereniging CMV Concordia in Oldebroek. Later studeerde hij trompet aan het Codarts Conservatorium in Rotterdam. In 2004 begon hij met de opleiding HaFaBra-directie aan het Koninklijk Conservatorium in Den Haag. Vanaf 2008 richtte hij zich vooral op zijn werk als dirigent. \n\n\n\nAnne heeft verschillende orkesten geleid\, zoals Brassband Pro Rege uit Heerenveen\, Soli Brass uit Leeuwarden\, fanfare Wilhelmina uit Easterein\, David uit Oosterwolde en Ad Astra uit Asperen. Met Pro Rege won hij meerdere Nederlandse kampioenschappen. Sinds januari 2024 is Anne hoofdvakdocent directie HaFaBra aan het Prins Claus Conservatorium in Groningen. \n\n\n\nVanaf november 2024 is hij chef-dirigent van de Regimentsfanfare Garde Grenadiers en Jagers. \n\n\n\n\n\n\n\nTenue\n\n\n\nDe RFGGJ draagt het tenue van het Garderegiment Grenadiers. Kenmerkend voor het ceremoniële tenue van de grenadiers is de berenmuts.Bij grote ceremonies en de Nationale Taptoe speelt de RFGGJ samen met de Koninklijke Militaire Kapel ‘Johan Willem Friso’. Dan dragen zij het ceremoniële tenue van het oudste infanterieregiment van de Koninklijke Landmacht. Dat is het Regiment Infanterie ‘Prins Johan Willem Friso’. \n\n\n\n\n\n\n\nEnsemble\n\n\n\nDe Regimentsfanfare ‘Garde Grenadiers en Jagers’ beschikt over een koperkwintet. Het kwintet is veelzijdig en treedt op verschillende gelegenheden zoals: \n\n\n\n\nkleine militaire ceremonies;\n\n\n\nrecepties;\n\n\n\nofficiële ontvangsten;\n\n\n\nherdenkingen.\n\n\n\n\nHet koperkwintet bestaat uit 2 trompetten\, hoorn\, trombone en een bastuba. \n\n\n\nGeschiedenis\n\n\n\nDe RFGGJ is opgericht in 2005. Het orkest vertegenwoordigt de tradities van het Garderegiment Grenadiers en Jagers\, opgericht in 1829. \n\n\n\n\n\n\n\nMeer informatie:  Regimentsfanfare ‘Garde Grenadiers en Jagers’ | Defensie.nl
URL:https://www.wimvandoornemuziekkiosk.nl/evenement/garderegiment-grenadiers-en-jagers/
END:VEVENT
BEGIN:VEVENT
DTSTART;TZID=Europe/Amsterdam:20260503T160000
DTEND;TZID=Europe/Amsterdam:20260503T170000
DTSTAMP:20260425T161932
CREATED:20260226T073344Z
LAST-MODIFIED:20260420T203203Z
UID:1717-1777824000-1777827600@www.wimvandoornemuziekkiosk.nl
SUMMARY:Harmonie De Pinte (B)
DESCRIPTION:Harmonieorkest De Pinte ontstond 65 jaar geleden ontstond als de ‘Begoniafanfare in De Pinte\, België. In 1981 werd het orkest omgevormd tot een volwaardige harmonie: de marsmuziek verdween en maakte plaats voor meer hedendaagse werken. In 1999 werd er opnieuw een nieuw hoofdstuk ingezet: de mooie Begonia’s werden ingeruild voor de modernere naam ‘Harmonieorkest De Pinte’.  \n\n\n\nSinds augustus 2016 staat het orkest onder leiding van Hannes Beauprez. Hannes behaalde een masterdiploma klarinet aan het conservatorium in Gent en verdiepte zich in orkestdirectie. Onder leiding van zijn dirigent is het orkest nog meer uitgegroeid tot een bloeiende en dynamische vereniging\, met een 60-tal muzikanten die wekelijks samen musiceren in hun repetitielokaal in De Pinte. \n\n\n\nMeer informatie:  www.harmonieorkest.be \n\n\n\nSinds augustus 2016 staat het harmonieorkest onder leiding van Hannes Beauprez.In 2021 besloten ze de Youth Band te integreren in het harmonieorkest\, waarna de vereniging in 2023 officieel de naam ‘Harmonieorkest De Pinte VZW‘ kreeg. \n\n\n\n\n\n\n\nHannes Beauprez deed al enkele jaren ervaring op bij verschillende orkesten en projecten. Om zijn directietechniek te vervolmaken volgde hij les aan academie de Kunstbrug en aan het Conservatoire Royal de Mons.Hannes studeerde af als klarinettist aan het Koninklijk Conservatorium van Gent in 2016 met de grootste onderscheiding voor de uitvoering van zijn masterproef. Hij is ook als muzikant zeer actief. Als freelance klarinettist vervoegt hij regelmatig de rangen van gerenommeerde orkesten zoals de Muziekkapel van de Luchtmacht\, Casco Phil\, Ataneres Ensemble en La Passione. Maar hij is ook een graag geziene solist bij verschillende orkesten en producties. Daarnaast is hij de oprichter van verschillende ensembles waarmee hij een gevarieerd muzikaal oeuvre brengt: van huiskamerconcerten\, over schoolvoorstellingen\, tot muziekfestivals. Zijn passie voor de klarinet geeft hij bovendien ook nog door als leraar klarinet aan de kunstacademie van Lokeren. Een veelzijdige dirigent. \n\n\n\nMeer info: www.hannesbeauprez.be
URL:https://www.wimvandoornemuziekkiosk.nl/evenement/harmonie-de-pinters-b/
END:VEVENT
BEGIN:VEVENT
DTSTART;TZID=Europe/Amsterdam:20260510T140000
DTEND;TZID=Europe/Amsterdam:20260510T144500
DTSTAMP:20260425T161932
CREATED:20260226T073417Z
LAST-MODIFIED:20260326T154744Z
UID:1719-1778421600-1778424300@www.wimvandoornemuziekkiosk.nl
SUMMARY:Sing & Joy
DESCRIPTION:Wil je graag zingen en onze Gospelgroep komen versterken\, neem even contact met ons op. \n\n\n\nVia zanggroepsingandjoy@gmail.com of 06-18710986
URL:https://www.wimvandoornemuziekkiosk.nl/evenement/sing-joy/
END:VEVENT
BEGIN:VEVENT
DTSTART;TZID=Europe/Amsterdam:20260510T150000
DTEND;TZID=Europe/Amsterdam:20260510T154500
DTSTAMP:20260425T161932
CREATED:20260226T073451Z
LAST-MODIFIED:20260326T161502Z
UID:1721-1778425200-1778427900@www.wimvandoornemuziekkiosk.nl
SUMMARY:Boeremoeske
DESCRIPTION:Zanggroep Boeremoeske is in 1984 ontstaan uit een groepje zangers die spontaan tijdens de carnavalsdagen optrad bij o.a. de Boerenbruiloft. De zanggroep is gevestigd in Eindhoven en zingt onder begeleiding van een accordeonist overwegend Brabantse liedjes.Boeremoeske bestaat uit 42 leden (23 zangeressen\, 17 zangers\, en 2 geluidmensen) en verzorgt 25 à 30 optredens per jaar in buurt/gemeenschapshuizen\, clubhuizen en zorgcentra\, ten behoeve van organisaties die zich inzetten voor o.a. ouderen. \n\n\n\nEens per jaar verzorgt de zanggroep een koffieconcert voor de inwoners van Eindhoven en omstreken om iedereen in de gelegenheid te stellen kennis te maken met het Brabantse erfgoed door het zingen van Brabantse liedjes. \n\n\n\nMeer informatie:  Welkom bij Boeremoeske
URL:https://www.wimvandoornemuziekkiosk.nl/evenement/boeremoeske/
END:VEVENT
BEGIN:VEVENT
DTSTART;TZID=Europe/Amsterdam:20260510T160000
DTEND;TZID=Europe/Amsterdam:20260510T164500
DTSTAMP:20260425T161932
CREATED:20260226T073518Z
LAST-MODIFIED:20260327T181604Z
UID:1723-1778428800-1778431500@www.wimvandoornemuziekkiosk.nl
SUMMARY:De Pompierskapel - Valkenswaard
DESCRIPTION:De Pompierskapel is opgericht als blaaskapel vanuit de vrijwillige brandweer van Valkenswaard en is uitgegroeid tot één van de gezelligste kapellen van Nederland. Naast muziek maken vinden zij gezelligheid en het sociale karakter van de vereniging erg belangrijk. Inmiddels bestaan ze meer dan 40 jaar. En dat is niet voor niets! \n\n\n\nHun repertoire is zeer gevarieerd. Ze spelen van wals tot evergreens. Van mars tot samba. Door de grote verscheidenheid aan muziekstijlen zijn ze graag gezien door vele muziekliefhebbers. Voor iedereen zitten er leuke nummers in het repertoire en dat houdt het interessant. Ook voor de muzikanten houdt dit in\, dat er voor ieder wat wils is. Want zoveel mensen\, zoveel wensen. \n\n\n\nIn 2022 hebben ze hun 40-jarig jubileum gevierd met een groots blaaskapellen festival in de brandweerkazerne van Valkenswaard. \n\n\n\nDe kapel staat onder de bezielende leiding van Hans Aerts en ze repeteren elke dinsdagavond van 19:30 tot 21:30 uur.​Na de repetitie praten ze altijd nog gezellig na onder het genot van een hapje en drankje.Wil je eens komen komen kijken op de repetitie\, stuur dan een berichtje via ons Contactformulier. \n\n\n\nMeer informatie:  De Pompierskapel – De Brandweerkapel uit Valkenswaard – Home
URL:https://www.wimvandoornemuziekkiosk.nl/evenement/brandweermuziekkapel/
END:VEVENT
BEGIN:VEVENT
DTSTART;TZID=Europe/Amsterdam:20260517T140000
DTEND;TZID=Europe/Amsterdam:20260517T144500
DTSTAMP:20260425T161932
CREATED:20260226T073615Z
LAST-MODIFIED:20260327T181714Z
UID:1725-1779026400-1779029100@www.wimvandoornemuziekkiosk.nl
SUMMARY:The Magical History Tour
DESCRIPTION:The Magical History Tour giet het repertoire van The Beatles in een eigentijdse jas. Hier wat strakker\, daar wat steviger en af en toe een vocaal extraatje\, maar je zult altijd The Beatles blijven horen. The Magical History Tour doet dat al sinds 2010 op Nederlandse en Belgische podia van muziekcafés en theaters en op festivals. De kroon op het werk is op 9 maart 2019 gezet\, toen de band was uitgenodigd om in The Cavern in Liverpool te spelen\, de club waar The Beatles in de beginjaren zestig hun naam vestigden. Ze traden er bijna driehonderd keer op. Daarna groeide The Cavern uit tot een bedevaartsoord voor elke rechtgeaarde Beatlesliefhebber. \n\n\n\nDe Magical History Tour speelt de hits uit de begintijd van The Fab Four en het doorwrochte studiowerk uit de tweede helft van de jaren zestig. Aangevuld met minder bekend werk uit beide perioden. Minder bekend\, maar niet minder boeiend. \n\n\n\nMeer informatie:  The Magical History Tour – Beatles Tribute
URL:https://www.wimvandoornemuziekkiosk.nl/evenement/magical-history-tour/
END:VEVENT
BEGIN:VEVENT
DTSTART;TZID=Europe/Amsterdam:20260517T150000
DTEND;TZID=Europe/Amsterdam:20260517T154500
DTSTAMP:20260425T161932
CREATED:20260226T073645Z
LAST-MODIFIED:20260327T181829Z
UID:1727-1779030000-1779032700@www.wimvandoornemuziekkiosk.nl
SUMMARY:Hands Up 4 Jazz
DESCRIPTION:Hands Up 4 Jazz is een band uit regio Eindhoven en brengt lekkere\, goed in het gehoor liggende\, kwalitatieve jazz met een twist. De warme en zwoele klanken van een saxofoon afgewisseld met scheurende blues sound\, een gitaar die enerzijds teder en lieve geluiden voortbrengt maar ook energieke swingende solo’s weggeeft met daarbij een stevige ondersteuning van de drum en de bas.Het zijn allemaal ervaren muzikanten die jarenlang in allerlei samenstellingen hebben gespeeld.Saxofoons: Hans LoeffenHij speelde in diverse jazz en blues bands. \n\n\n\nGitaar: Sergio CastellaniHij heeft een conservatoriumopleiding in Brussel gevolgd. \n\n\n\nContrabas: Jose BaarsHij bezocht o.a. met oude-stijl jazz bands elke stad en dorp in Nederland.Drums: Hans BoerrigterHans is thuis in verschillende stijlen van jazz en pop en speelde zelfs in een carnaval dweilorkest. \n\n\n\n\n\n\n\n(20+) Facebook
URL:https://www.wimvandoornemuziekkiosk.nl/evenement/hands-up-4-jazz/
END:VEVENT
BEGIN:VEVENT
DTSTART;TZID=Europe/Amsterdam:20260517T160000
DTEND;TZID=Europe/Amsterdam:20260517T164500
DTSTAMP:20260425T161932
CREATED:20260226T073711Z
LAST-MODIFIED:20260327T182024Z
UID:1729-1779033600-1779036300@www.wimvandoornemuziekkiosk.nl
SUMMARY:Seniorenorkest Wedertklank Valkenswaard
DESCRIPTION:Seniorenorkest Wedertklank is afkomstig uit Valkenswaard en telt nu zo’n 30 leden. \n\n\n\nOns repertoire bestaat voornamelijk uit Egerländer\, Nederlandstalige en Zuid Amerikaanse/Spaanse muziek en is geschikt om met meerdere thema’s te kunnen optreden zoals luisteren\, meezingen\, dansen\, Duitse feesten\, kerstuitvoeringen e.d. \n\n\n\nDe nummers worden ook altijd aan elkaar gepraat wat heel informatief en gezellig is \n\n\n\nHistorie:  Het orkest is feitelijk een Seniorenorkest dat in 1980 is gestart onder de naam ‘Nooitgedacht’. In 2005 kwam er een andere naam –  Blaasorkest: “Wedertklank” met een ander tenue en een sterk vernieuwd repertoire. In 2016 de naam veranderd in Seniorenorkest “WEDERTKLANK “ \n\n\n\nDe naam “Wedertklank” verwijst naar de oude naam van Valkenswaard in de Middeleeuwen. Het stadje heette toen Wedert\, wat marktplaats betekent. Omdat Weert en Nederweert ook al bestonden is gekozen voor een naam die verwijst naar de beroemde valkenvangers/jagers uit … jawel …Valkenswaard. \n\n\n\nDirigent:Onze dirigent heet Jan van Bruggen. Hij is onze muzikaal leider vanaf 2016. \n\n\n\nOptredens:De optredens van ons orkest zijn vooral bij de woonzorg- en senioren centra\, maar ook voor organisaties als de Zonnebloem. Verder terrasconcerten en ons eigen concert in zaal Geenhoven Valkenswaard. Speciale optredens waren Floriade Venlo\, Wim van Doorne Kiosk Eindhoven \, Carat Helmond\, Senioirenbeurs Koningshof. \n\n\n\nMeer informatie:  www.wedertklank.nl
URL:https://www.wimvandoornemuziekkiosk.nl/evenement/nedertklank/
END:VEVENT
BEGIN:VEVENT
DTSTART;TZID=Europe/Amsterdam:20260522T000000
DTEND;TZID=Europe/Amsterdam:20260525T000000
DTSTAMP:20260425T161932
CREATED:20260226T073809Z
LAST-MODIFIED:20260328T083238Z
UID:1731-1779408000-1779667200@www.wimvandoornemuziekkiosk.nl
SUMMARY:Blend Wijnfestival
DESCRIPTION:(Locatie: Parkeerterrein tussen de Wim van Doorne Muziekkiosk en het Stadspaviljoen) \n\n\n\nVerhuring via EHV247 / Gemeente Eindhoven \n\n\n\nMeer informatie: Home – Blend \n\n\n\n\n\n\n\n\n\n\n\nHet Eindhovense Wijnfestival \n\n\n\nTijdens het Pinksterweekend kunnen wijnliefhebbers 4 dagen lang kennismaken met meer dan 200 kwaliteitswijnen.  \n\n\n\nEen programma vol entertainment\, heerlijke wijnen en bijpassende gerechtjes zorgen ervoor dat jong en oud de weg naar BLEND weten te vinden.  \n\n\n\nTot 22\, 23\, 24 & 25 mei 2026!
URL:https://www.wimvandoornemuziekkiosk.nl/evenement/blend-wijnfestival/
END:VEVENT
BEGIN:VEVENT
DTSTART;TZID=Europe/Amsterdam:20260531T140000
DTEND;TZID=Europe/Amsterdam:20260531T144500
DTSTAMP:20260425T161932
CREATED:20260226T073851Z
LAST-MODIFIED:20260326T165813Z
UID:1733-1780236000-1780238700@www.wimvandoornemuziekkiosk.nl
SUMMARY:Echo van het Zuiden
DESCRIPTION:De ‘Echo van het Zuiden’ is een accordeon- en mandolineorkest uit Eindhoven\, onder leiding van dirigent Danny Notermans. Het orkest bestaat niet alleen uit accordeons en mandolines\, maar ook uit banjo’s en gitaren\, verdeeld over 3 of 4 partijen\, aangevuld met slagwerk\, elektrische piano en basgitaar. De muziek die wij maken is zeer gevarieerd en deze combinatie zorgt voor een prachtige klankkleur. Het repertoire van de ‘Echo van het Zuiden’ bestaat uit populaire / klassieke werken\, Russische- en Balkan melodieën\, evenals muziek uit musicals en films en classic pop. \n\n\n\nDe Echo is een actieve vereniging\, die jaarlijks diverse uitvoeringen geeft op verschillende locaties in binnen- en buitenland. In Nederland zijn dat o.a. jaarconcerten\, kerstuitvoeringen\, koffieconcerten\, concerten in verzorgingshuizen en optredens op de Wim van Doorne kiosk alsmede bij plaatselijke grotere festiviteiten. In het buitenland vinden muzikale uitwisselingen plaats o.a. in Massenhausen\, Remscheid en Dahn in Duitsland en Bayeux in Frankrijk.          \n\n\n\nDe Echo van het Zuiden bestaat sinds 1945. In 2020 bestonden we dus 75 jaar. Dit hadden we groots willen vieren. Maar helaas door de COVID pandemie en daardoor de diversen lock downs hebben we in 2020 en 2021 geen jubileum- en jaarconcert kunnen vieren.  \n\n\n\nIn het 70-jarig bestaan van onze vereniging hebben veel buitenlandse uitwisselingen plaatsgevonden o.a. België\, Duitsland\, Frankrijk en Engeland. Typisch is dat de contacten tussen onze verenigingen vaak ontstonden tijdens vakanties van onze eigen leden die deze contacten legden. In het kader van de Bevrijdingsfeesten Eindhoven/Bayeux is ook een bijzonder goed contact ontstaan met volksdansgroep ‘Gay Scavoir’ uit Bayeux. \n\n\n\nWe zijn een bloeiende en gezellige vereniging met nog steeds jonge aanwas. Vele leden hebben inmiddels hun 25-jarig jubileum reeds gevierd. \n\n\n\nDIRIGENT:Sinds 1987 is Danny Notermans de dirigent van de ‘Echo van het Zuiden’. In 2012 vierde hij zijn 25-jarig jubileum als dirigent van het orkest. Danny Notermans (1961) is al op jonge leeftijd gefascineerd door de muziek. Op 8-jarige leeftijd ging hij naar de muziekschool om alt saxofoon en piano te studeren. En muziek bleef zijn passie. Hij haalde zijn handelsdiploma en ondertussen speelde hij in diverse harmonieën en fanfares.  \n\n\n\nMeer info: ALGEMENE INFORMATIE | echovanhetzuiden.nl
URL:https://www.wimvandoornemuziekkiosk.nl/evenement/echo-van-het-zuiden-2/
END:VEVENT
BEGIN:VEVENT
DTSTART;TZID=Europe/Amsterdam:20260531T150000
DTEND;TZID=Europe/Amsterdam:20260531T154500
DTSTAMP:20260425T161932
CREATED:20260226T073919Z
LAST-MODIFIED:20260401T184336Z
UID:1735-1780239600-1780242300@www.wimvandoornemuziekkiosk.nl
SUMMARY:Popkoor Spektakel
DESCRIPTION:Repertoire\n\n\n\nSpektakel wil ongeveer tussen de 20 en 25 nummers nummers aanhouden als repertoire om uit te kiezen. Soms gaan er nummer een tijdje ‘de kast’ in\, om later weer terug te komen. Dit omdat het anders voor nieuwe leden ondoenlijk is om het alle nummers te leren. Er komen uiteraard regelmatig nieuwe nummers bij\, of vallen er af.Hieronder zie je een kleine greep uit de nummers die we op dit moment regelmatig zingen. \n\n\n\nAbba Medley | American Trilogy – Elvis | A little less conversation – Elvis | Boy from New York City- Manhatten Transfer | California Dreaming – The Mamas and the Papas | Don’t stop me now – Queen | Downtown – Petula Clark | Dreamer – Supertramp | Drive my car- The Beatles | Everytime I think of you- The Babys | Fame- Irene Cara | George Michael Medley | Happy Day – Sister Act |I don’t wanna know- Fleetwood Mac | Mr. Blue Sky- ELO | Multicolor- Son Mieux | Price Tag – Jessie J.Ride like the wind- Christopher Cross | Shallow- Lady Gaga | Show must go on- Queen | Simon & Garfunkel Medley | Sweet Dreams – Eurythmics | The Chain – Fleetwood Mac | Top of the world – Carpenters | Uptown girl- Billy Joel | You’re the voice- Richard Farnham \n\n\n\nSongcoach\n\n\n\nHun koorleider is Arjan Bruinsma. Hij heeft een stevige muzikale achtergrond. Arjan is actief als componist van reclametunes en als pianist en zanger in diverse bands\, zoals het Nederlandstalige Café Chantant\, dat een tribute is aan Ramses Shaffy en Liesbeth List. Bijna alle arrangementen van Trammelant zijn door hem geschreven. \n\n\n\n\n\n\n\nPopkoor voor Iedereen!\n\n\n\nZong je tot nu toe alleen onder de douche? Of heb je al ervaring? Spektakel is een stoer popkoor voor iedereen!Ervaring of zangles is niet nodig. Jullie inzet en enthousiasme is meer dan genoeg. Iedereen vanaf 16 jaar is welkom. Omdat Spektakel een stoer popkoor is\, doen we niet aan danspasjes en ook niet aan koorkleding. De sfeer is informeel en relaxt en iedereen komt gewoon zoals die is. We werken wel aan zelfvertrouwen en uitstraling. \n\n\n\nMeer informatie:  Spektakel | Hèt rock- en popkoor van Eindhoven |
URL:https://www.wimvandoornemuziekkiosk.nl/evenement/popspektakel/
END:VEVENT
BEGIN:VEVENT
DTSTART;TZID=Europe/Amsterdam:20260531T160000
DTEND;TZID=Europe/Amsterdam:20260531T164500
DTSTAMP:20260425T161932
CREATED:20260226T074033Z
LAST-MODIFIED:20260327T162631Z
UID:1737-1780243200-1780245900@www.wimvandoornemuziekkiosk.nl
SUMMARY:Big Bandits Veghel
DESCRIPTION:Na meer dan 20 jaar samenspelend als big band zijn we nog steeds dol op wat we doen! en dat blijkt uit alles. We hebben vandaag nog net zoveel passie als toen we begonnen\, zo niet meer. \n\n\n\n\n\n\n\n\n\n\n\nMeer informatie:  (20+) Facebook
URL:https://www.wimvandoornemuziekkiosk.nl/evenement/big-bandits-veghel/
END:VEVENT
END:VCALENDAR