BEGIN:VCALENDAR
VERSION:2.0
PRODID:-//Wim van Doorne Muziekkiosk - ECPv6.15.20//NONSGML v1.0//EN
CALSCALE:GREGORIAN
METHOD:PUBLISH
X-ORIGINAL-URL:https://www.wimvandoornemuziekkiosk.nl
X-WR-CALDESC:Evenementen voor Wim van Doorne Muziekkiosk
REFRESH-INTERVAL;VALUE=DURATION:PT1H
X-Robots-Tag:noindex
X-PUBLISHED-TTL:PT1H
BEGIN:VTIMEZONE
TZID:Europe/Amsterdam
BEGIN:DAYLIGHT
TZOFFSETFROM:+0100
TZOFFSETTO:+0200
TZNAME:CEST
DTSTART:20250330T010000
END:DAYLIGHT
BEGIN:STANDARD
TZOFFSETFROM:+0200
TZOFFSETTO:+0100
TZNAME:CET
DTSTART:20251026T010000
END:STANDARD
BEGIN:DAYLIGHT
TZOFFSETFROM:+0100
TZOFFSETTO:+0200
TZNAME:CEST
DTSTART:20260329T010000
END:DAYLIGHT
BEGIN:STANDARD
TZOFFSETFROM:+0200
TZOFFSETTO:+0100
TZNAME:CET
DTSTART:20261025T010000
END:STANDARD
BEGIN:DAYLIGHT
TZOFFSETFROM:+0100
TZOFFSETTO:+0200
TZNAME:CEST
DTSTART:20270328T010000
END:DAYLIGHT
BEGIN:STANDARD
TZOFFSETFROM:+0200
TZOFFSETTO:+0100
TZNAME:CET
DTSTART:20271031T010000
END:STANDARD
END:VTIMEZONE
BEGIN:VEVENT
DTSTART;TZID=Europe/Amsterdam:20260607T140000
DTEND;TZID=Europe/Amsterdam:20260607T144500
DTSTAMP:20260425T161956
CREATED:20260226T074105Z
LAST-MODIFIED:20260327T160852Z
UID:1739-1780840800-1780843500@www.wimvandoornemuziekkiosk.nl
SUMMARY:Fanfare Orkest Wilhelmina Eindhoven
DESCRIPTION:Actueel repertoire\n\n\n\nOp dit moment zijn wij in voorbereiding voor een aantal concerten waarbij we voor dit jaar een actueel repertoire hebben gekozen uit verschillende stijlen maar vooral makkelijk in het gehoor liggende nummers. Ons repertoire bevat verschillende stijlen waar iedereen van kan genieten. \n\n\n\n\n\n\n\n \n\n\n\n\n\n\n\nArtistieke leiding\n\n\n\nOnze dirigent is Roger Cobben (1965) uit Brunssum. Roger Cobben is sinds 1997 werkzaam als dirigent en vierde in 2022 zijn 25-jarig jubileum. \n\n\n\n \n\n\n\nMeer informatie:  Fanfare Orkest Wilhelmina Eindhoven – Fanfare Muziek Blaasmuziek
URL:https://www.wimvandoornemuziekkiosk.nl/evenement/fanfare-wilhelmina/
END:VEVENT
BEGIN:VEVENT
DTSTART;TZID=Europe/Amsterdam:20260607T150000
DTEND;TZID=Europe/Amsterdam:20260607T154500
DTSTAMP:20260425T161956
CREATED:20260226T074130Z
LAST-MODIFIED:20260327T154944Z
UID:1741-1780844400-1780847100@www.wimvandoornemuziekkiosk.nl
SUMMARY:Eindhovens Senioren Orkest
DESCRIPTION:Het orkest is op 25 januari 1983 opgericht en bestaat uit een aantal enthousiaste amateurmuzikanten\, die niet meer of niet meer volledig aan het arbeidsproces deelnemen. Het uit ca. 45 leden bestaande gezelschap vertoont de samenstelling van een harmonie en repeteert overdag. Er wordt gemiddeld vijf keer per jaar een uitvoering gegeven. \n\n\n\nDe leiding is in handen van de ervaren beroepsdirigent Mari van Gils\, die borg staat voor een goed muzikaal peil en een ontspannen sfeer tijdens de repetities.  \n\n\n\nWij treden graag voor u op\n\n\n\nWij zijn aangevuld met enkele bijzondere instrumenten zoals: hobo\, basklarinet en piccolo. Ons repertoire is daardoor nog interessanter geworden en tevens uitgebreid.Een van onze grote pluspunten: concerteren overdag op werkdagen.We verzorgen concerten op diverse plaatsen: concertzalen\, kiosken\, bejaarden- en verzorgingshuizen.  \n\n\n\nTenslotte bezoeken we sinds enige jaren in Eindhoven en omgeving met groot succes diverse basisscholen met een educatief programma.  \n\n\n\n\n\n\n\n\n\n\n\nMeer informatie:  Eindhovens Seniorenorkest
URL:https://www.wimvandoornemuziekkiosk.nl/evenement/senioren-orkest/
END:VEVENT
BEGIN:VEVENT
DTSTART;TZID=Europe/Amsterdam:20260607T160000
DTEND;TZID=Europe/Amsterdam:20260607T164500
DTSTAMP:20260425T161956
CREATED:20260226T074155Z
LAST-MODIFIED:20260327T182424Z
UID:1743-1780848000-1780850700@www.wimvandoornemuziekkiosk.nl
SUMMARY:Stratums Muziekkorps St Cecilia
DESCRIPTION:Harmonieorkest\n\n\n\nMuziek maken met plezier\, in een gezellig orkest\, met een goede sfeer: dat is ‘St. Cecilia’. \n\n\n\nStratums Muziekkorps Sint Cecilia is een harmonieorkest met ruim 70 leden\, opgericht in 1934. \n\n\n\nHarmonieorkest wil zeggen: hout- en koperblaasinstrumenten en slagwerk.Het orkest bestaat uit een groep enthousiaste amateurmuzikanten die met veel plezier en inzet fijne muziek wil maken. We spelen vooral hedendaagse muziek\, pop\, rock\, musical\, maar ook mooie grotere orkestwerken\, dit alles onder leiding van dirigent Jaap van Wershoven. We treden regelmatig op met zangers en gastmuzikanten. \n\n\n\nEen greep uit onze regelmatig terugkeren optredens: \n\n\n\n\nWinterconcert in ‘De Wilgenhof’\n\n\n\n\n\nCarnavalsmis\, Catharinakerk\, waarvoor we de Gouden Rommelpotter 2024 mochten ontvangen\n\n\n\ndiverse optredens op Koningsdag\n\n\n\nzondagmiddagconcert\, Van Doornekiosk\n\n\n\nPleinconcert\, Jennerlaan\n\n\n\nFakkeldoven\, Stadhuisplein\n\n\n\n\nDaarnaast gaven we in november 2023 een groots concert met voltallige orkest\, diverse zangers\, solisten\, combo en een dansgroep in de grote zaal van het Parktheater: ‘Stratum in Concert’ 2023. Het concert werd aangevuld met spectaculair beeldmateriaal en een fantastische licht- en geluid show. Dit (uitverkochte) evenement was zowel voor de muzikanten als het publiek een geweldig hoogtepunt. \n\n\n\nTenslotte is de harmonie ook altijd in voor een serenade bij een bruiloft\, jubileum\, of anderszins bijzondere gebeurtenis die daardoor een extra feestelijk tintje krijgt. \n\n\n\nDe repetities worden wekelijks gehouden in Gemeenschapscentrum Lievendaal in Eindhoven\, onder leiding van Jaap van Wershoven 20.45 tot 22.30 uur. Loop gerust eens binnen! \n\n\n\nMuziek\n\n\n\nCecilia programmeert gevarieerde muziek. Van licht-populaire muziek (denk aan top-2000 werk) tot filmmuziek\, licht-klassieke werken\, swing\, marsen\, etc. \n\n\n\nVoor speciale optredens zoals serenades\, Koningsdag en opluistering van een Kerstdienst\, worden daarvoor geschikte nummers ingestudeerd. \n\n\n\nWe worden elk jaar uitgenodigd om op te treden op de Van Doorne kiosk in het Eindhovense Stadswandelpark. Een daaraan vergelijkbaar optreden verzorgen we tijdens de jaarlijkse Carat concerten in Helmond. Daarnaast verzorgen we meerdere keren per jaar een optreden in Stratumse wijken. \n\n\n\nEen belangrijk onderdeel vormen de straatoptredens bij feestelijke gelegenheden. Je kunt ons korps aantreffen bij evenementen zoals Carnaval\, Sinterklaas\, Koningsdag\, Bruiloften en Jubilea. \n\n\n\nMeer informatie:  Stratums Muziekkorps Sint Cecilia – Harmonie Stratumsmuziekkorps Sint Cecilia Eindhoven
URL:https://www.wimvandoornemuziekkiosk.nl/evenement/stratums-muziekkorps-st-cecilia-2/
END:VEVENT
BEGIN:VEVENT
DTSTART;TZID=Europe/Amsterdam:20260614T140000
DTEND;TZID=Europe/Amsterdam:20260614T144500
DTSTAMP:20260425T161956
CREATED:20260226T074223Z
LAST-MODIFIED:20260327T153352Z
UID:1745-1781445600-1781448300@www.wimvandoornemuziekkiosk.nl
SUMMARY:Muziekvereniging Eindhoven West
DESCRIPTION:Muziekvereniging Eindhoven West is opgericht vlak na de oorlog op 21 juni 1945.De basis van MEW ligt bij een groepje muzikanten die na de oorlog hun instrument tevoorschijn haalden uit kelders\, diepe kasten of zelfs uit de tuin hebben opgegraven en met veel enthousiasme aan de slag gingen. \n\n\n\nVoorop stond gezellig muziek maken en hun optredens bestonden vooral uit het opluisteren van bevrijdingsfeesten. Uniformen hadden ze nog niet\, maar dat kon de pret niet drukken. Tot 1952 ging men op deze voet door maar langzaamaan voelde men de behoefte om het muziek maken wat professioneler aan te gaan pakken en met een dirigent voor de groep en een mooi uniform begon de ontwikkeling van een harmonie. \n\n\n\nNaast muzikale prestaties besteedt MEW ook veel aandacht aan sfeer en gezelligheid. Het repertoire is gevarieerd samengesteld (van filmmuziek\, tot klassiek\, van popmuziek tot mars nummers) zodat de muziek voor iedereen uitdagend en leuk is\, en waarbij de voorkeur van onze jeugd voorop staat. \n\n\n\nMEW bestaat op dit moment uit een 40-tal enthousiaste muzikanten o.l.v. onze dirigent Reinhard Wind.Door het jaar heen geven we bijvoorbeeld concerten in: Gemeenschapscentrum de Lievendaal (ons thuisfront)\, Van Doorne kiosk in Eindhoven\, Caratpaviljoen in Helmond\, Centrum voor de kunsten in Eindhoven (CKE)\, Wijkcentrum Unitas\, etc.We gaan zelfs de grens over voor muzikale uitwisselingen in Duitsland (Vohringen) en Frankrijk (Autun). We zijn zelfs in Minsk (Belarus) en Mexicostad geweest.  \n\n\n\nHOU JIJ VAN MUZIEK?\n\n\n\nWij zijn nog op zoek naar klarinettisten\, hoornisten\, trombonisten en fluitisten.Er is plaats voor jong en oud. \n\n\n\nKom vrijblijvend eens lang op onze repetities op de donderdagen in Gemeenschapscentrum Lievendaal in Strijp.  \n\n\n\nMeer informatie:  Muziekvereniging Eindhoven West
URL:https://www.wimvandoornemuziekkiosk.nl/evenement/muziekvereniging-eindhoven-west-2/
END:VEVENT
BEGIN:VEVENT
DTSTART;TZID=Europe/Amsterdam:20260614T150000
DTEND;TZID=Europe/Amsterdam:20260614T154500
DTSTAMP:20260425T161956
CREATED:20260226T074248Z
LAST-MODIFIED:20260327T151911Z
UID:1747-1781449200-1781451900@www.wimvandoornemuziekkiosk.nl
SUMMARY:Eindhovens Muziek Collectief
DESCRIPTION:Het orkest bestaat uit ongeveer 30 vaste leden en wordt voor bijzondere projecten aangevuld met projectdeelnemers en invallers. In het orkest zijn de volgende instrumenten aanwezig: klarinet\, fluit\, altsaxofoon\, tenorsaxofoon\, baritonsaxofoon\, fagot\, hoorn\, trompet\, trombone\, bas\, euphonium en een uitgebreid assortiment slagwerkinstrumenten. Wij hebben op dit moment plaats voor nieuwe muzikanten met enige ervaring op hun instrument. \n\n\n\nJe zult ons niet marcherend op straat tegenkomen\, maar toch zijn we regelmatig te vinden bij diverse optredens. Zo spelen we jaarlijks op de Wim van Doorne Muziekkiosk en organiseren we een zomeravondconcert ergens op een plein in Eindhoven. Ook ons jaarlijkse kerstconcert in de Martinuskerk in Tongelre op de laatste woensdag voor kerst is inmiddels traditie geworden. \n\n\n\nHet orkest repeteert op maandagavond in Wijkcentrum De Boemerang aan de Planetenlaan 1a in Eindhoven van 20.15 – 22.15 uur. Het orkest wordt geleid door Angelo Mariman. \n\n\n\nMeer weten? Kom een keer kijken op maandagavond of stuur een mail naar harmonie@eindhovensmuziekcollectief.nl \n\n\n\nMeer informatie:  Eindhovens Muziekcollectief – Samen muziek maken
URL:https://www.wimvandoornemuziekkiosk.nl/evenement/eindhovens-muziek-collectief/
END:VEVENT
BEGIN:VEVENT
DTSTART;TZID=Europe/Amsterdam:20260614T160000
DTEND;TZID=Europe/Amsterdam:20260614T164500
DTSTAMP:20260425T161956
CREATED:20260226T074312Z
LAST-MODIFIED:20260327T151550Z
UID:1749-1781452800-1781455500@www.wimvandoornemuziekkiosk.nl
SUMMARY:Popkoor Sway
DESCRIPTION:Sway is een Eindhovens popkoor met 25-30 zangers- en zangeressen. Het koor wordt begeleid door een volwaardige “eigen” band \, en staat onder leiding van Marty van der Staak. Door de met kwaliteit en enthousiasme gezongen nummers kan Sway het publiek heerlijk laten swingen op muziek die iedereen bekend in de oren zal klinken. Bekend en toch anders\, want de nummers zijn zonder uitzondering speciaal voor ons gearrangeerd. Sway heeft van September 2006 tot en met Oktober 2025 onder leiding gestaan van Gerard de Graaf. Veel van de arrangementen zijn van zijn hand. Met ingang van 1 November 2025 heeft Marty van der Staak het stokje over genomen en zullen ook nieuwe nummers door hem gearrangeerd worden.  \n\n\n\nSway heeft een breed repertoire opgebouwd met nummers die variëren van ingetogen en stemmig tot krachtig en pittig. Met deze variëteit maakt Sway van elk optreden een feestje.Doordat vrijwel alle nummers exclusief zijn gearrangeerd voor Sway\, wordt het publiek verrast door een prachtige samenklank en heeft ieder nummer ook zijn eigen verrassende Sway-sound. Daarnaast heeft Sway een aantal uitstekende solisten die het mogelijk maken steeds opnieuw een zeer gevarieerd optreden neer te zetten. \n\n\n\n\n\n\n\n\n\n\n\nMeer informatie:  Popkoor Sway – Plezier én kwaliteit
URL:https://www.wimvandoornemuziekkiosk.nl/evenement/popkoor-sway/
END:VEVENT
BEGIN:VEVENT
DTSTART;TZID=Europe/Amsterdam:20260621T133000
DTEND;TZID=Europe/Amsterdam:20260621T170000
DTSTAMP:20260425T161956
CREATED:20260226T074345Z
LAST-MODIFIED:20260326T080820Z
UID:1751-1782048600-1782061200@www.wimvandoornemuziekkiosk.nl
SUMMARY:MidzomerSalsa
DESCRIPTION:Het gratis toegankelijke MidzomerSalsa-festival wordt voor de 4e keer georganiseerd door de Wim van Doorne Muziekkiosk en Dansschool Salsapati in en om de prachtige muziekkiosk in het Stadswandelpark in Eindhoven. Een geweldige locatie voor een middag salsa dansen! Live muziek wordt dit jaar verzorgd door ras entertainer en latin zanger Rudy Varela. \n\n\n\nRudy is geboren op Aruba\, waar hij op zeer jonge leeftijd zijn passie voor muziek ontdekte. De muziek waarmee Rudy opgroeide komt uit zijn Colombiaanse roots en bestond voornamelijk uit: Salsa\, Merenque en Boleros. Op 12-jarige leeftijd begon Rudy trompet te spelen in een fanfare tijdens de beroemde carnavalsoptochten op Aruba. Drie jaar later trad Rudy toe tot het super Quasi Orchestra.  \n\n\n\nMet het talent dat hij bezit deed Rudy kleine en grote projecten en had de grote eer om te zingen met artiesten als: UB40\, Marc Anthony\, Sergio Vargas\, Melina Leon en El gran Combo. Ook in de HiRise Hotels op Aruba nam Rudy deel aan verschillende shows. \n\n\n\nIn 2009 besefte Rudy dat Aruba te klein was om zijn dromen te vervullen en kwam hij naar Amsterdam. In Amsterdam werd zijn talent ontdekt en Rudy stond al snel op het podium met: The Metropole Orchestra\, Jimmy Bosch\, La Ritmica en Cubop City Big Band. Meer informatie:  Home | Rudy Varela    \n\n\n\n \n\n\n\n\n\n\n\n\n\n\n\nDe gratis toegankelijke Salsa workshop voor beginners\, o.l.v. Lea en Danny van dansschool Salsapati\, start om 13.30 uur. Ook als je nog niet kunt dansen\, kun je hier de basispasjes leren. Dus zorg dat je op tijd aanwezig bent!Meer informatie:   Salsapati Dansschool Eindhoven  \n\n\n\nHet SDS Showteam\, o.l.v. Tania en Nathaniel\, geeft een demonstratie Salsadansen op het grote podium van de kiosk. \n\n\n\n\n\n\n\nEn natuurlijk…. lekker losgaan en dansen op heerlijke salsa\, bachata\, chacha en andere Latin muziek die gedraaid wordt door DJ Aldair. | \n\n\n\n\n\n\n\nPROGRAMMA \n\n\n\n13.30-14.15 uur   Workshop Lea 14.15-14.30 uur   DJ Aldair 14.30-14.55 uur   Rudy Varela14.55-15.30 uur   DJ Aldair (+ Demo SDS Showteam)15.30-15.55 uur   Rudy Varela15.55-16.30 uur   DJ Aldair 16.30-17.00 uur   Rudy Varela
URL:https://www.wimvandoornemuziekkiosk.nl/evenement/midzomersalsa-2/
END:VEVENT
BEGIN:VEVENT
DTSTART;TZID=Europe/Amsterdam:20260628T140000
DTEND;TZID=Europe/Amsterdam:20260628T144500
DTSTAMP:20260425T161956
CREATED:20260226T074415Z
LAST-MODIFIED:20260327T151033Z
UID:1753-1782655200-1782657900@www.wimvandoornemuziekkiosk.nl
SUMMARY:Harmonie EMM Budel
DESCRIPTION:Harmonieorkest EMM Budel\n\n\n\nNa bevonden bekwaamheid door middel van auditie bij de dirigent\, kan worden toegetreden tot het harmonieorkest. \n\n\n\nHet harmonieorkest bestaat uit ongeveer 65 leden en speelt in de 1e divisie. Het repertoire omvat een wisselende selectie van muziekstukken uit diverse genres en van verschillende niveaus. Evenals het opleidingsorkest\, wordt er projectmatig gerepeteerd. Deze projecten omvatten zowel de diverse evenementen die EMM ontplooit\, alsook concoursen\, gelegenheidsconcerten of bijzondere samenwerkingen. \n\n\n\n\n\n\n\n\n\n\n\n \n\n\n\n\n\n\n\nDirigent Wout Claessens\n\n\n\nMet ingang van augustus 2019 is Wout Claessens benoemd tot dirigent van het harmonieorkest. Hij is de opvolger van Hans van der Velden\, die met de concertreis Berlijn in juli 2019 afscheid heeft genomen. \n\n\n\nWout werd geboren op 17 maart 1986 in Dordrecht. Hij groeide op in Hardinxveld-giessendam in een zeer muzikale familie. Hierdoor kwam hij al op zeer jeugdige leeftijd in aanraking met muziek en met het verenigingsleven. Hij volgde lessen op cello\, slagwerk en saxofoon en speelde al snel mee in diverse orkesten. \n\n\n\nIn 2003 begon hij zijn studies saxofoon (Norbert Nozy) en contrabas (Carol Harte) aan het conservatorium in Maastricht en heeft in 2007 zijn bachelor saxofoon met onderscheiding afgesloten. \n\n\n\nOp 17-jarige leeftijd werd hij aangesteld als baritonsaxofonist bij de Marinierskapel der Koninklijke Marine\, waar hij nu nog steeds deel van uit maakt. Daarnaast bespeelt hij ook basgitaar (in het combo) en contrabas (in het strijkensemble 2003-2016). \n\n\n\nIn 2009 volgde Wout zijn eerste directielessen bij zijn vader Jacques Claessens\, na 2 jaar maakte hij de overstap naar Jan Cober. \n\n\n\nWout is tevens als dirigent verbonden aan Harmonie St. Joseph Grubbenvorst (2016) \n\n\n\nMeer informatie  Harmonie EMM Budel
URL:https://www.wimvandoornemuziekkiosk.nl/evenement/harmonie-budel/
END:VEVENT
BEGIN:VEVENT
DTSTART;TZID=Europe/Amsterdam:20260628T150000
DTEND;TZID=Europe/Amsterdam:20260628T154500
DTSTAMP:20260425T161956
CREATED:20260226T074437Z
LAST-MODIFIED:20260328T083010Z
UID:1755-1782658800-1782661500@www.wimvandoornemuziekkiosk.nl
SUMMARY:Die Lustige Bruder
DESCRIPTION:‘Die Lustigen Brüder’ is een 7-mans formatie uit Waalre en omgeving die een heerlijk stukje echte Oostenrijkse muziek maakt. Het belangrijkste is plezier\, maar mede dankzij het gelijke niveau van alle muzikanten gaat de gezelligheid gepaard met kwalitatief goede klanken. \n\n\n\nZij vinden het mooi om de echte originele blaasmuziek te blazen\, zowel de oude klassiekers van bijvoorbeeld Ernst Mosch\, als nieuwe uitgaves van bijvoorbeeld Viera Blech of de Kaiser Musikanten. In Duitsland en Oostenrijk zijn er in de afgelopen jaren\, net als Die Lustigen Brüder\, talrijke nieuwe kapellen opgericht die de traditionele muziek in een kleine bezetting blazen. Inmiddels bestaan ze al zo’n 15 jaar en hebben ze ter gelegenheid van hun 10-jarig jubileum een CD opgenomen. \n\n\n\nHet belangrijkste voor hen is het plezier hebben in het maken van deze mooie muziek. Ze wisselen polka’s\, walsen en marsen af met enkele solistische werken in Böhmische\, Mährische en Boarische stijl. \n\n\n\nVan terrasconcerten\, Oktoberfeesten\, weekendjes weg in Duitsland tot een Duitse borrel: wij zijn altijd in voor een feestje! \n\n\n\nMeer informatie:  Die Lustigen Brüder
URL:https://www.wimvandoornemuziekkiosk.nl/evenement/die-lustige-bruder/
END:VEVENT
BEGIN:VEVENT
DTSTART;TZID=Europe/Amsterdam:20260628T160000
DTEND;TZID=Europe/Amsterdam:20260628T164500
DTSTAMP:20260425T161956
CREATED:20260226T074505Z
LAST-MODIFIED:20260326T170930Z
UID:1757-1782662400-1782665100@www.wimvandoornemuziekkiosk.nl
SUMMARY:Philharmonie Brainport
DESCRIPTION:Inspiratie voor jonge en gevorderde amateurmusici…\n\n\n\nZo laat de Philharmonie Brainport zich het beste typeren. We geven op hoog niveau vorm aan muziek en laten ons publiek genieten van vernieuwende en enthousiasmerende programma’s. Wil jij daaraan meedoen? Het orkest repeteert op maandagavond van 19.30 tot 22.30 uur in het Gemeenschapshuis Genderdal op de Boccherinilaan 6 in Eindhoven. Kom gerust eens vrijblijvend luisteren. \n\n\n\nOnze ambitie\n\n\n\nPhilharmonie Brainport is door haar ambitie uitgegroeid tot een van de meest vooraanstaande Europese bedrijfsorkesten. Met veel passie en enthousiasme brengen we een grote diversiteit aan klassieke en populaire muziek voor een breed publiek. Altijd op het hoogste niveau. Wij willen je verrassen en binden\, inspireren en muziek laten beleven. En vooral: je laten genieten. Daarbij kijken we verder dan de orkestbak of ons podium: in onze producties leggen we verbindingen door samenwerking met andere muziekculturen. Onze orkestleden doen dit onder de deskundige leiding van onze chef-dirigent Matty Cilissen. \n\n\n\nHet fundament voor het hoge muzikale niveau van Philharmonie Brainport: \n\n\n\n\neen hooggekwalificeerde\, professionele dirigent\n\n\n\nmusici op minimaal C/D-niveau of met vergelijkbare ervaring\n\n\n\neen uitdagende en inspirerende programmering voor verschillende doelgroepen en culturen \n\n\n\nsamenwerking met uitstekende solisten en partners.\n\n\n\n\n\n\n\n\nMatty Cilissen\, chef-dirigent\n\n\n\nMatty Cilissen (1976) kreeg al op 6-jarige leeftijd zijn eerste muzieklessen. Hij volgde diverse muziekopleidingen: aan de conservatoria van Brussel\, Gent\, Antwerpen\, Maastricht en het Lemmensinstituut te Leuven. Als hoofdvakken koos Matty: directie (bij onder anderen François De Ridder\, Jan Cober\, Dirk de Caluwé\, Norbert Nozy\, Jan Hadermann\, Dirk Brossé en Jan Van der Roost) en dwarsfluit/piccolo (bij onder anderen Gaby Van Riet en Wim Tonnaer). \n\n\n\nMatty behaalde maar liefst vier masterdiploma’s\, waaronder het masterdiploma orkestdirectie (Cum Laude) en het masterdiploma symfonische orkestdirectie (Cum Laude). Daarnaast studeerde hij muziekgeschiedenis\, orkestratie\, percussie\, klassieke en 20e-eeuwse vormanalyse\, harmonie\, contrapunt\, kamermuziek en muziekfilosofie. \n\n\n\nIn de wereld van de symfonische blaasmuziek was Matty al op zeer jonge leeftijd erg succesvol als dirigent. Op onder andere het Wereldmuziekconcours te Kerkrade\, het TEMA Tielen Concours\, een wedstrijd voor lichte muziek en entertainment en het Certamen te Altea (Spanje) behaalde hij dan ook verschillende laureaatstitels. Ook behaalde hij de hoogste artistieke resultaten van alle deelnemers in het teken van de toelatingsproeven Officier Kapelmeester bij de Belgische Defensie. In de zomer van 2017 werd hij wereldkampioen in de Concertafdeling met Harmonie Sint Petrus en Paulus op het WMC 2017 te Kerkrade. Sinds 2008 is Matty Cilissen chef-dirigent van Philharmonie Brainport. Daarnaast is hij dirigent van Koninklijke Muziekkapel van de Belgische Luchtmacht en van een aantal andere gerenommeerde orkesten. \n\n\n\n \n\n\n\nJe kunt ons ook inhuren\n\n\n\nPhilharmonie Brainport ontwikkelt niet alleen eigen producties\, ook bedrijven en organisaties kunnen ons inhuren voor muziek op maat. Bijvoorbeeld voor grote projecten\, themaconcerten\, bedrijfsconcerten en voor het begeleiden van artiesten. Lees hier meer over onze bijzondere optredens en laat je inspireren. \n\n\n\nInteresse? Stuur dan een email naar info@philharmoniebrainport.nl \n\n\n\nMeer informatie: Home – Philharmonie Brainport
URL:https://www.wimvandoornemuziekkiosk.nl/evenement/philharmonie-brainport/
END:VEVENT
END:VCALENDAR